BEGIN:VCALENDAR
VERSION:2.0
PRODID:icalendar-ruby
CALSCALE:GREGORIAN
METHOD:PUBLISH
BEGIN:VEVENT
DTSTAMP:20260424T024140Z
UID:5-397458@fbcwatertown.church
DTSTART:20261025T150000Z
DTEND:20261025T160000Z
CLASS:PUBLIC
CREATED:20260423T213202
DESCRIPTION:Sunday Worship
LAST-MODIFIED:20260423T213202
LOCATION:
SUMMARY:Sunday Worship
URL;VALUE=URI:https://www.fbcwatertown.church/events/sunday-worship/2026-10
 -25
END:VEVENT
END:VCALENDAR
