BEGIN:VCALENDAR
VERSION:2.0
PRODID:icalendar-ruby
CALSCALE:GREGORIAN
METHOD:PUBLISH
BEGIN:VEVENT
DTSTAMP:20260423T204433Z
UID:5-396932@fbcwatertown.church
DTSTART:20260927T150000Z
DTEND:20260927T160000Z
CLASS:PUBLIC
CREATED:20260423T154417
DESCRIPTION:Sunday Worship
LAST-MODIFIED:20260423T154417
LOCATION:
SUMMARY:Sunday Worship
URL;VALUE=URI:https://www.fbcwatertown.church/events/sunday-worship/2026-09
 -27
END:VEVENT
END:VCALENDAR
