BEGIN:VCALENDAR
VERSION:2.0
PRODID:icalendar-ruby
CALSCALE:GREGORIAN
METHOD:PUBLISH
BEGIN:VEVENT
DTSTAMP:20260423T191353Z
UID:5-396670@fbcwatertown.church
DTSTART:20260920T150000Z
DTEND:20260920T160000Z
CLASS:PUBLIC
CREATED:20260423T124833
DESCRIPTION:Sunday Worship
LAST-MODIFIED:20260423T124833
LOCATION:
SUMMARY:Sunday Worship
URL;VALUE=URI:https://www.fbcwatertown.church/events/sunday-worship/2026-09
 -20
END:VEVENT
END:VCALENDAR
